Workbook

Sheet Functional Analysis
B2: 1st Analysis | D2: 2nd Analysis | F2: 3rd Analysis
A3: Primary Function
A4: Primary II
A5: Scope I
A6: Scope II
A7: Scope III
A8: Access Point I
A9: Access Point II

Sheet Introduction

Sheet Analysis_Sample
C1: Left | I1: Right | O1: Center
A2: Analysis | B2: Score | C2: Duration | D2: Start | E2: End | G2: Analysis | H2: Score | I2: Duration | J2: Start | K2: End | M2: Analysis | N2: Score | O2: Duration | P2: Start | Q2: End
G4: Stuff-Apt | H4: 10 | I4: 10 | J4: 400 | K4: 20
G5: Search | H5: 10 | I5: 10 | J5: 400 | K5: 20
G6: Budget | H6: 10 | I6: 10 | J6: 10 | K6: 10
A7: Language | B7: 5 | C7: 7 | D7: 30 | E7: 10000 | G7: 1 year deposit | H7: 10 | I7: 10 | J7: 50 | K7: 10
A8: Apartment Move | B8: 7 | C8: 6 | D8: 30 | E8: 30 | G8: Time-move | H8: 10 | I8: 9 | J8: 10 | K8: 10
A9: Brokers | B9: 6 | C9: 5 | D9: 40 | E9: 10 | G9: Moving out | H9: 10 | I9: 10 | J9: 45 | K9: 10
A10: Morals | B10: 8 | C10: 7 | D10: 20000 | E10: 20000 | G10: People skills | H10: 10 | I10: 9 | J10: 2000 | K10: 20000
G11: Nose | H11: 5 | I11: 4 | J11: 365 | K11: 100
M17: Money
M18: Racism
M19: Affirmation
M20: Kelly Stuff
M21: Class
M22: Learning french
M23: Fiefé website
M24: Images
M25: Books
M26: Model
M27: 19 Q
M28: @ 19 Q
... M31: Fiefé
A32: Friends | B32: 7 | C32: 5 | D32: 20000 | E32: 20000 | M32: Friends
M33: Doubt
M34: Self
A35: France | B35: 3 | C35: 2 | D35: 10000 | E35: 2000 | M35: France
A36: The show | B36: 6 | C36: 5 | D36: 10000 | E36: 50000 | M36: The show
A37: Money-school | B37: 7 | C37: 6 | D37: 365 | E37: 500 | M37: Money-school
A38: Relationship | B38: 5 | C38: 3 | D38: 10000 | E38: 20000 | M38: Relationship
A39: Practice | B39: 4 | C39: 9 | D39: 1000 | E39: 15000 | M39: Practice
A40: Music | B40: 9 | C40: 9 | D40: 10000 | E40: 15000 | M40: Music
A41: Tuition | B41: 7 | C41: 7 | D41: 365 | E41: 500 | M41: Tuition
A42: School | B42: 6 | C42: 6 | D42: 400 | E42: 500 | M42: School
M43: Smoking
M44: Nose
M45: People skills
M46: Moving out
M47: Time-move
M48: 1 year deposit
M49: Budget
M50: Search
M51: Stuff-Apt

Sheet Function Analysis
C1: Left | I1: Right | O1: Center
A2: Analysis | B2: Score | C2: Duration | D2: Start | E2: End | G2: Analysis | H2: Score | I2: Duration | J2: Start | K2: End | M2: Analysis | N2: Score | O2: Duration | P2: Start | Q2: End
A4: =G51 -> 0 | M4: Girl | N4: =H4-B4 -> 0 | O4: =I4-C4 -> 0 | P4: =J4-D4 -> 0 | Q4: =K4-E4 -> 0
A5: =G50 -> 0 | M5: Sex | N5: =H5-B5 -> 0 | O5: =I5-C5 -> 0 | P5: =J5-D5 -> 0 | Q5: =K5-E5 -> 0
A6: =G49 -> 0 | M6: Party | N6: =H6-B6 -> 0 | O6: =I6-C6 -> 0 | P6: =J6-D6 -> 0 | Q6: =K6-E6 -> 0
A7: =G48 -> 0 | M7: Language | N7: =H7-B7 -> 0 | O7: =I7-C7 -> 0 | P7: =J7-D7 -> 0 | Q7: =K7-E7 -> 0
A8: =G47 -> 0 | M8: Apartment Move | N8: =H8-B8 -> 0 | O8: =I8-C8 -> 0 | P8: =J8-D8 -> 0 | Q8: =K8-E8 -> 0
A9: =G46 -> 0 | M9: Brokers | N9: =H9-B9 -> 0 | O9: =I9-C9 -> 0 | P9: =J9-D9 -> 0 | Q9: =K9-E9 -> 0
A10: =G45 -> 0 | M10: Morals | N10: =H10-B10 -> 0 | O10: =I10-C10 -> 0 | P10: =J10-D10 -> 0 | Q10: =K10-E10 -> 0
A11: =G44 -> 0 | M11: How to hunt | N11: =H11-B11 -> 0 | O11: =I11-C11 -> 0 | P11: =J11-D11 -> 0 | Q11: =K11-E11 -> 0
A12: =G43 -> 0 | M12: Being let down | N12: =H12-B12 -> 0 | O12: =I12-C12 -> 0 | P12: =J12-D12 -> 0 | Q12: =K12-E12 -> 0
A13: =G42 -> 0 | M13: Her immigration | N13: =H13-B13 -> 0 | O13: =I13-C13 -> 0 | P13: =J13-D13 -> 0 | Q13: =K13-E13 -> 0
A14: =G41 -> 0 | M14: Immigration | N14: =H14-B14 -> 0 | O14: =I14-C14 -> 0 | P14: =J14-D14 -> 0 | Q14: =K14-E14 -> 0
A15: =G40 -> 0 | M15: Parc | N15: =H15-B15 -> 0 | O15: =I15-C15 -> 0 | P15: =J15-D15 -> 0 | Q15: =K15-E15 -> 0
A16: =G39 -> 0 | M16: Image-Money | N16: =H16-B16 -> 0 | O16: =I16-C16 -> 0 | P16: =J16-D16 -> 0 | Q16: =K16-E16 -> 0
A17: =G38 -> 0 | M17: Money | N17: =H17-B17 -> 0 | O17: =I17-C17 -> 0 | P17: =J17-D17 -> 0 | Q17: =K17-E17 -> 0
A18: =G37 -> 0 | M18: Racism | N18: =H18-B18 -> 0 | O18: =I18-C18 -> 0 | P18: =J18-D18 -> 0 | Q18: =K18-E18 -> 0
A19: =G36 -> 0 | M19: Affirmation | N19: =H19-B19 -> 0 | O19: =I19-C19 -> 0 | P19: =J19-D19 -> 0 | Q19: =K19-E19 -> 0
A20: =G35 -> 0 | M20: Kelly Stuff | N20: =H20-B20 -> 0 | O20: =I20-C20 -> 0 | P20: =J20-D20 -> 0 | Q20: =K20-E20 -> 0
A21: =G34 -> 0 | M21: Class | N21: =H21-B21 -> 0 | O21: =I21-C21 -> 0 | P21: =J21-D21 -> 0 | Q21: =K21-E21 -> 0
A22: =G33 -> 0 | M22: Learning french | N22: =H22-B22 -> 0 | O22: =I22-C22 -> 0 | P22: =J22-D22 -> 0 | Q22: =K22-E22 -> 0
A23: =G32 -> 0 | M23: Fiefé website | N23: =H23-B23 -> 0 | O23: =I23-C23 -> 0 | P23: =J23-D23 -> 0 | Q23: =K23-E23 -> 0
A24: =G31 -> 0 | M24: Images | N24: =H24-B24 -> 0 | O24: =I24-C24 -> 0 | P24: =J24-D24 -> 0 | Q24: =K24-E24 -> 0
A25: =G30 -> 0 | M25: Books | N25: =H25-B25 -> 0 | O25: =I25-C25 -> 0 | P25: =J25-D25 -> 0 | Q25: =K25-E25 -> 0
A26: =G29 -> 0 | M26: Model | N26: =H26-B26 -> 0 | O26: =I26-C26 -> 0 | P26: =J26-D26 -> 0 | Q26: =K26-E26 -> 0
A27: =G28 -> 0 | M27: 19 Q | N27: =H27-B27 -> 0 | O27: =I27-C27 -> 0 | P27: =J27-D27 -> 0 | Q27: =K27-E27 -> 0
A28: =G27 -> 0 | M28: @ 19 Q | N28: =H28-B28 -> 0 | O28: =I28-C28 -> 0 | P28: =J28-D28 -> 0 | Q28: =K28-E28 -> 0
A29: =G26 -> 0 | M29: Perry | N29: =H29-B29 -> 0 | O29: =I29-C29 -> 0 | P29: =J29-D29 -> 0 | Q29: =K29-E29 -> 0
A30: =G25 -> 0 | M30: Maria | N30: =H30-B30 -> 0 | O30: =I30-C30 -> 0 | P30: =J30-D30 -> 0 | Q30: =K30-E30 -> 0
A31: =G24 -> 0 | M31: Fiefé | N31: =H31-B31 -> 0 | O31: =I31-C31 -> 0 | P31: =J31-D31 -> 0 | Q31: =K31-E31 -> 0
A32: =G23 -> 0 | M32: Friends | N32: =H32-B32 -> 0 | O32: =I32-C32 -> 0 | P32: =J32-D32 -> 0 | Q32: =K32-E32 -> 0
A33: =G22 -> 0 | M33: Doubt | N33: =H33-B33 -> 0 | O33: =I33-C33 -> 0 | P33: =J33-D33 -> 0 | Q33: =K33-E33 -> 0
A34: =G21 -> 0 | M34: Self | N34: =H34-B34 -> 0 | O34: =I34-C34 -> 0 | P34: =J34-D34 -> 0 | Q34: =K34-E34 -> 0
A35: =G20 -> 0 | M35: France | N35: =H35-B35 -> 0 | O35: =I35-C35 -> 0 | P35: =J35-D35 -> 0 | Q35: =K35-E35 -> 0
A36: =G19 -> 0 | M36: The show | N36: =H36-B36 -> 0 | O36: =I36-C36 -> 0 | P36: =J36-D36 -> 0 | Q36: =K36-E36 -> 0
A37: =G18 -> 0 | M37: Money-school | N37: =H37-B37 -> 0 | O37: =I37-C37 -> 0 | P37: =J37-D37 -> 0 | Q37: =K37-E37 -> 0
A38: =G17 -> 0 | M38: Relationship | N38: =H38-B38 -> 0 | O38: =I38-C38 -> 0 | P38: =J38-D38 -> 0 | Q38: =K38-E38 -> 0
A39: =G16 -> 0 | M39: Practice | N39: =H39-B39 -> 0 | O39: =I39-C39 -> 0 | P39: =J39-D39 -> 0 | Q39: =K39-E39 -> 0
A40: =G15 -> 0 | M40: Music | N40: =H40-B40 -> 0 | O40: =I40-C40 -> 0 | P40: =J40-D40 -> 0 | Q40: =K40-E40 -> 0
A41: =G14 -> 0 | M41: Tuition | N41: =H41-B41 -> 0 | O41: =I41-C41 -> 0 | P41: =J41-D41 -> 0 | Q41: =K41-E41 -> 0
A42: =G13 -> 0 | M42: School | N42: =H42-B42 -> 0 | O42: =I42-C42 -> 0 | P42: =J42-D42 -> 0 | Q42: =K42-E42 -> 0
A43: =G12 -> 0 | M43: Smoking | N43: =H43-B43 -> 0 | O43: =I43-C43 -> 0 | P43: =J43-D43 -> 0 | Q43: =K43-E43 -> 0
A44: =G11 -> 0 | M44: Nose | N44: =H44-B44 -> 0 | O44: =I44-C44 -> 0 | P44: =J44-D44 -> 0 | Q44: =K44-E44 -> 0
A45: =G10 -> 0 | M45: People skills | N45: =H45-B45 -> 0 | O45: =I45-C45 -> 0 | P45: =J45-D45 -> 0 | Q45: =K45-E45 -> 0
A46: =G9 -> 0 | M46: Moving out | N46: =H46-B46 -> 0 | O46: =I46-C46 -> 0 | P46: =J46-D46 -> 0 | Q46: =K46-E46 -> 0
A47: =G8 -> 0 | M47: Time-move | N47: =H47-B47 -> 0 | O47: =I47-C47 -> 0 | P47: =J47-D47 -> 0 | Q47: =K47-E47 -> 0
A48: =G7 -> 0 | M48: 1 year deposit | N48: =H48-B48 -> 0 | O48: =I48-C48 -> 0 | P48: =J48-D48 -> 0 | Q48: =K48-E48 -> 0
A49: =G6 -> 0 | M49: Budget | N49: =H49-B49 -> 0 | O49: =I49-C49 -> 0 | P49: =J49-D49 -> 0 | Q49: =K49-E49 -> 0
A50: =G5 -> 0 | M50: Search | N50: =H50-B50 -> 0 | O50: =I50-C50 -> 0 | P50: =J50-D50 -> 0 | Q50: =K50-E50 -> 0
A51: =G4 -> 0 | M51: Stuff-Apt | N51: =H51-B51 -> 0 | O51: =I51-C51 -> 0 | P51: =J51-D51 -> 0 | Q51: =K51-E51 -> 0

Sheet Function Analysis 
C1: Left | I1: Right | O1: Center
A2: Analysis | B2: Score | C2: Duration | D2: Start | E2: End | G2: Analysis | H2: Score | I2: Duration | J2: Start | K2: End | M2: Analysis | N2: Score | O2: Duration | P2: Start | Q2: End
A4: ='Function Analysis'!A4 -> 0 | B4: ='Function Analysis'!B4 -> 0 | C4: ='Function Analysis'!C4 -> 0 | D4: ='Function Analysis'!D4*0.0005 -> 0 | E4: ='Function Analysis'!E4*0.0005 -> 0 | G4: ='Function Analysis'!G4 -> 0 | H4: ='Function Analysis'!H4 -> 0 | I4: ='Function Analysis'!I4 -> 0 | J4: ='Function Analysis'!J4*0.0005 -> 0 | K4: ='Function Analysis'!K4*0.0005 -> 0 | M4: =G4 -> 0 | N4: ='Function Analysis'!N4 -> 0 | O4: ='Function Analysis'!O4 -> 0 | P4: ='Function Analysis'!P4*0.0005 -> 0 | Q4: ='Function Analysis'!Q4*0.0005 -> 0
A5: ='Function Analysis'!A5 -> 0 | B5: ='Function Analysis'!B5 -> 0 | C5: ='Function Analysis'!C5 -> 0 | D5: ='Function Analysis'!D5*0.0005 -> 0 | E5: ='Function Analysis'!E5*0.0005 -> 0 | G5: ='Function Analysis'!G5 -> 0 | H5: ='Function Analysis'!H5 -> 0 | I5: ='Function Analysis'!I5 -> 0 | J5: ='Function Analysis'!J5*0.0005 -> 0 | K5: ='Function Analysis'!K5*0.0005 -> 0 | M5: =G5 -> 0 | N5: ='Function Analysis'!N5 -> 0 | O5: ='Function Analysis'!O5 -> 0 | P5: ='Function Analysis'!P5*0.0005 -> 0 | Q5: ='Function Analysis'!Q5*0.0005 -> 0
A6: ='Function Analysis'!A6 -> 0 | B6: ='Function Analysis'!B6 -> 0 | C6: ='Function Analysis'!C6 -> 0 | D6: ='Function Analysis'!D6*0.0005 -> 0 | E6: ='Function Analysis'!E6*0.0005 -> 0 | G6: ='Function Analysis'!G6 -> 0 | H6: ='Function Analysis'!H6 -> 0 | I6: ='Function Analysis'!I6 -> 0 | J6: ='Function Analysis'!J6*0.0005 -> 0 | K6: ='Function Analysis'!K6*0.0005 -> 0 | M6: =G6 -> 0 | N6: ='Function Analysis'!N6 -> 0 | O6: ='Function Analysis'!O6 -> 0 | P6: ='Function Analysis'!P6*0.0005 -> 0 | Q6: ='Function Analysis'!Q6*0.0005 -> 0
A7: ='Function Analysis'!A7 -> 0 | B7: ='Function Analysis'!B7 -> 0 | C7: ='Function Analysis'!C7 -> 0 | D7: ='Function Analysis'!D7*0.0005 -> 0 | E7: ='Function Analysis'!E7*0.0005 -> 0 | G7: ='Function Analysis'!G7 -> 0 | H7: ='Function Analysis'!H7 -> 0 | I7: ='Function Analysis'!I7 -> 0 | J7: ='Function Analysis'!J7*0.0005 -> 0 | K7: ='Function Analysis'!K7*0.0005 -> 0 | M7: =G7 -> 0 | N7: ='Function Analysis'!N7 -> 0 | O7: ='Function Analysis'!O7 -> 0 | P7: ='Function Analysis'!P7*0.0005 -> 0 | Q7: ='Function Analysis'!Q7*0.0005 -> 0
A8: ='Function Analysis'!A8 -> 0 | B8: ='Function Analysis'!B8 -> 0 | C8: ='Function Analysis'!C8 -> 0 | D8: ='Function Analysis'!D8*0.0005 -> 0 | E8: ='Function Analysis'!E8*0.0005 -> 0 | G8: ='Function Analysis'!G8 -> 0 | H8: ='Function Analysis'!H8 -> 0 | I8: ='Function Analysis'!I8 -> 0 | J8: ='Function Analysis'!J8*0.0005 -> 0 | K8: ='Function Analysis'!K8*0.0005 -> 0 | M8: =G8 -> 0 | N8: ='Function Analysis'!N8 -> 0 | O8: ='Function Analysis'!O8 -> 0 | P8: ='Function Analysis'!P8*0.0005 -> 0 | Q8: ='Function Analysis'!Q8*0.0005 -> 0
A9: ='Function Analysis'!A9 -> 0 | B9: ='Function Analysis'!B9 -> 0 | C9: ='Function Analysis'!C9 -> 0 | D9: ='Function Analysis'!D9*0.0005 -> 0 | E9: ='Function Analysis'!E9*0.0005 -> 0 | G9: ='Function Analysis'!G9 -> 0 | H9: ='Function Analysis'!H9 -> 0 | I9: ='Function Analysis'!I9 -> 0 | J9: ='Function Analysis'!J9*0.0005 -> 0 | K9: ='Function Analysis'!K9*0.0005 -> 0 | M9: =G9 -> 0 | N9: ='Function Analysis'!N9 -> 0 | O9: ='Function Analysis'!O9 -> 0 | P9: ='Function Analysis'!P9*0.0005 -> 0 | Q9: ='Function Analysis'!Q9*0.0005 -> 0
A10: ='Function Analysis'!A10 -> 0 | B10: ='Function Analysis'!B10 -> 0 | C10: ='Function Analysis'!C10 -> 0 | D10: ='Function Analysis'!D10*0.0005 -> 0 | E10: ='Function Analysis'!E10*0.0005 -> 0 | G10: ='Function Analysis'!G10 -> 0 | H10: ='Function Analysis'!H10 -> 0 | I10: ='Function Analysis'!I10 -> 0 | J10: ='Function Analysis'!J10*0.0005 -> 0 | K10: ='Function Analysis'!K10*0.0005 -> 0 | M10: =G10 -> 0 | N10: ='Function Analysis'!N10 -> 0 | O10: ='Function Analysis'!O10 -> 0 | P10: ='Function Analysis'!P10*0.0005 -> 0 | Q10: ='Function Analysis'!Q10*0.0005 -> 0
A11: ='Function Analysis'!A11 -> 0 | B11: ='Function Analysis'!B11 -> 0 | C11: ='Function Analysis'!C11 -> 0 | D11: ='Function Analysis'!D11*0.0005 -> 0 | E11: ='Function Analysis'!E11*0.0005 -> 0 | G11: ='Function Analysis'!G11 -> 0 | H11: ='Function Analysis'!H11 -> 0 | I11: ='Function Analysis'!I11 -> 0 | J11: ='Function Analysis'!J11*0.0005 -> 0 | K11: ='Function Analysis'!K11*0.0005 -> 0 | M11: =G11 -> 0 | N11: ='Function Analysis'!N11 -> 0 | O11: ='Function Analysis'!O11 -> 0 | P11: ='Function Analysis'!P11*0.0005 -> 0 | Q11: ='Function Analysis'!Q11*0.0005 -> 0
A12: ='Function Analysis'!A12 -> 0 | B12: ='Function Analysis'!B12 -> 0 | C12: ='Function Analysis'!C12 -> 0 | D12: ='Function Analysis'!D12*0.0005 -> 0 | E12: ='Function Analysis'!E12*0.0005 -> 0 | G12: ='Function Analysis'!G12 -> 0 | H12: ='Function Analysis'!H12 -> 0 | I12: ='Function Analysis'!I12 -> 0 | J12: ='Function Analysis'!J12*0.0005 -> 0 | K12: ='Function Analysis'!K12*0.0005 -> 0 | M12: =G12 -> 0 | N12: ='Function Analysis'!N12 -> 0 | O12: ='Function Analysis'!O12 -> 0 | P12: ='Function Analysis'!P12*0.0005 -> 0 | Q12: ='Function Analysis'!Q12*0.0005 -> 0
A13: ='Function Analysis'!A13 -> 0 | B13: ='Function Analysis'!B13 -> 0 | C13: ='Function Analysis'!C13 -> 0 | D13: ='Function Analysis'!D13*0.0005 -> 0 | E13: ='Function Analysis'!E13*0.0005 -> 0 | G13: ='Function Analysis'!G13 -> 0 | H13: ='Function Analysis'!H13 -> 0 | I13: ='Function Analysis'!I13 -> 0 | J13: ='Function Analysis'!J13*0.0005 -> 0 | K13: ='Function Analysis'!K13*0.0005 -> 0 | M13: =G13 -> 0 | N13: ='Function Analysis'!N13 -> 0 | O13: ='Function Analysis'!O13 -> 0 | P13: ='Function Analysis'!P13*0.0005 -> 0 | Q13: ='Function Analysis'!Q13*0.0005 -> 0
A14: ='Function Analysis'!A14 -> 0 | B14: ='Function Analysis'!B14 -> 0 | C14: ='Function Analysis'!C14 -> 0 | D14: ='Function Analysis'!D14*0.0005 -> 0 | E14: ='Function Analysis'!E14*0.0005 -> 0 | G14: ='Function Analysis'!G14 -> 0 | H14: ='Function Analysis'!H14 -> 0 | I14: ='Function Analysis'!I14 -> 0 | J14: ='Function Analysis'!J14*0.0005 -> 0 | K14: ='Function Analysis'!K14*0.0005 -> 0 | M14: =G14 -> 0 | N14: ='Function Analysis'!N14 -> 0 | O14: ='Function Analysis'!O14 -> 0 | P14: ='Function Analysis'!P14*0.0005 -> 0 | Q14: ='Function Analysis'!Q14*0.0005 -> 0
A15: ='Function Analysis'!A15 -> 0 | B15: ='Function Analysis'!B15 -> 0 | C15: ='Function Analysis'!C15 -> 0 | D15: ='Function Analysis'!D15*0.0005 -> 0 | E15: ='Function Analysis'!E15*0.0005 -> 0 | G15: ='Function Analysis'!G15 -> 0 | H15: ='Function Analysis'!H15 -> 0 | I15: ='Function Analysis'!I15 -> 0 | J15: ='Function Analysis'!J15*0.0005 -> 0 | K15: ='Function Analysis'!K15*0.0005 -> 0 | M15: =G15 -> 0 | N15: ='Function Analysis'!N15 -> 0 | O15: ='Function Analysis'!O15 -> 0 | P15: ='Function Analysis'!P15*0.0005 -> 0 | Q15: ='Function Analysis'!Q15*0.0005 -> 0
... A51: ='Function Analysis'!A51 -> 0 | B51: ='Function Analysis'!B51 -> 0 | C51: ='Function Analysis'!C51 -> 0 | D51: ='Function Analysis'!D51*0.0005 -> 0 | E51: ='Function Analysis'!E51*0.0005 -> 0 | G51: ='Function Analysis'!G51 -> 0 | H51: ='Function Analysis'!H51 -> 0 | I51: ='Function Analysis'!I51 -> 0 | J51: ='Function Analysis'!J51*0.0005 -> 0 | K51: ='Function Analysis'!K51*0.0005 -> 0 | M51: =G51 -> 0 | N51: ='Function Analysis'!N51 -> 0 | O51: ='Function Analysis'!O51 -> 0 | P51: ='Function Analysis'!P51*0.0005 -> 0 | Q51: ='Function Analysis'!Q51*0.0005 -> 0

Sheet Left Function

Sheet Right Function

Sheet Center Function II

Sheet Sheet1
