Workbook

Sheet To do
A1: To Do | C1: =CONCATENATE(COUNTIF($A$4:$A$51,TRUE), "/", COUNTA($C$4:$C$51), " completed ") -> 1/3 completed
A3: ✓ | B3: Date | C3: Task
A4: TRUE | B4: 36716 | C4: Type anything into column A to complete an item
A5: FALSE | B5: 36747 | C5: Change the styling of completed items under 'Format' > 'Conditional Formatting' (on the web)
A6: FALSE | B6: 36778 | C6: Sort items using the drop-down arrows next to the heading name (on the web)
A7: FALSE
A8: FALSE
A9: FALSE
A10: FALSE
A11: FALSE
A12: FALSE
A13: FALSE
A14: FALSE
A15: FALSE
A16: FALSE
A17: FALSE
A18: FALSE
... A50: FALSE

Sheet Score
F6: Score
C7: Professionalism: | F7: =Casting!D30+Jobs!E25+'Mood-Board'!C27+'Mood-Board'!D27+'Mood-Board'!E27+'Mood-Board'!F27+'Mood-Board'!G27+'Mood-Board'!H27+'Mood-Board'!I27+'Mood-Board'!K27+'Mood-Board'!L27/(Casting!D30+Jobs!E25+'Mood-Board'!C27+'Mood-Board'!D27+'Mood-Board'!E27+'Mood-Board'!F27+'Mood-Board'!G27+'Mood-Board'!H27+'Mood-Board'!I27+'Mood-Board'!K27+'Mood-Board'!L27) -> 98.092593
C9: Communication: | F9: =Casting!F30+Jobs!G25+'Mood-Board'!C27+'Mood-Board'!D27+'Mood-Board'!E27+'Mood-Board'!F27+'Mood-Board'!G27+'Mood-Board'!H27+'Mood-Board'!I27+'Mood-Board'!J27+'Mood-Board'!L27/(Casting!F30+Jobs!G25+'Mood-Board'!C27+'Mood-Board'!D27+'Mood-Board'!E27+'Mood-Board'!F27+'Mood-Board'!G27+'Mood-Board'!H27+'Mood-Board'!I27+'Mood-Board'!J27+'Mood-Board'!L27) -> 100.09091
C12: Energy: | F12: =Casting!H30+Jobs!I25+'Mood-Board'!C27+'Mood-Board'!D27+'Mood-Board'!E27+'Mood-Board'!F27+'Mood-Board'!G27+'Mood-Board'!H27+'Mood-Board'!I27+'Mood-Board'!J27+'Mood-Board'!L27/(Casting!H30+Jobs!I25+'Mood-Board'!C27+'Mood-Board'!D27+'Mood-Board'!E27+'Mood-Board'!F27+'Mood-Board'!G27+'Mood-Board'!H27+'Mood-Board'!I27+'Mood-Board'!J27+'Mood-Board'!L27) -> 100.09091
C15: Business: | F15: =(Casting!N30+Jobs!O25)/(Casting!N30+Jobs!O25) -> 1
C18: Market: | F18: =(Casting!N30+Jobs!O25+'Mood-Board'!R27)/(Casting!N30+Jobs!O25+'Mood-Board'!R27) -> 1

Sheet Casting
B2: Click: For Notes
A5: Client | B5: Date | D5: Professional | F5: Communication | H5: Energy | M5: Total | N5: Score
D6: 8 | F6: 10 | H6: 10 | M6: =D6+F6+H6 -> 28 | N6: =IF(M6=0, M6, IF(AND(M6>0, M6<=20), M6+0, IF(AND(M6>20, M6<=25), M6+50, IF(AND(M6>25, M6<=28), M6+75, IF(AND(M6>28, M6<=30), M6+100))))) -> 103
M7: =D7+F7+H7 -> 0 | N7: =IF(M7=0, M7, IF(AND(M7>0, M7<=20), M7+0, IF(AND(M7>20, M7<=25), M7+50, IF(AND(M7>25, M7<=28), M7+75, IF(AND(M7>28, M7<=30), M7+100))))) -> 0 | P7: =if(N7>0,1,)
M8: =D8+F8+H8 -> 0 | N8: =IF(M8=0, M8, IF(AND(M8>0, M8<=20), M8+0, IF(AND(M8>20, M8<=25), M8+50, IF(AND(M8>25, M8<=28), M8+75, IF(AND(M8>28, M8<=30), M8+100))))) -> 0 | P8: =if(N8>0,1,)
M9: =D9+F9+H9 -> 0 | N9: =IF(M9=0, M9, IF(AND(M9>0, M9<=20), M9+0, IF(AND(M9>20, M9<=25), M9+50, IF(AND(M9>25, M9<=28), M9+75, IF(AND(M9>28, M9<=30), M9+100))))) -> 0 | P9: =if(N9>0,1,)
M10: =D10+F10+H10 -> 0 | N10: =IF(M10=0, M10, IF(AND(M10>0, M10<=20), M10+0, IF(AND(M10>20, M10<=25), M10+50, IF(AND(M10>25, M10<=28), M10+75, IF(AND(M10>28, M10<=30), M10+100))))) -> 0 | P10: =if(N10>0,1,)
M11: =D11+F11+H11 -> 0 | N11: =IF(M11=0, M11, IF(AND(M11>0, M11<=20), M11+0, IF(AND(M11>20, M11<=25), M11+50, IF(AND(M11>25, M11<=28), M11+75, IF(AND(M11>28, M11<=30), M11+100))))) -> 0 | P11: =if(N11>0,1,)
M12: =D12+F12+H12 -> 0 | N12: =IF(M12=0, M12, IF(AND(M12>0, M12<=20), M12+0, IF(AND(M12>20, M12<=25), M12+50, IF(AND(M12>25, M12<=28), M12+75, IF(AND(M12>28, M12<=30), M12+100))))) -> 0 | P12: =if(N12>0,1,)
M13: =D13+F13+H13 -> 0 | N13: =IF(M13=0, M13, IF(AND(M13>0, M13<=20), M13+0, IF(AND(M13>20, M13<=25), M13+50, IF(AND(M13>25, M13<=28), M13+75, IF(AND(M13>28, M13<=30), M13+100))))) -> 0 | P13: =if(N13>0,1,)
M14: =D14+F14+H14 -> 0 | N14: =IF(M14=0, M14, IF(AND(M14>0, M14<=20), M14+0, IF(AND(M14>20, M14<=25), M14+50, IF(AND(M14>25, M14<=28), M14+75, IF(AND(M14>28, M14<=30), M14+100))))) -> 0 | P14: =if(N14>0,1,)
M15: =D15+F15+H15 -> 0 | N15: =IF(M15=0, M15, IF(AND(M15>0, M15<=20), M15+0, IF(AND(M15>20, M15<=25), M15+50, IF(AND(M15>25, M15<=28), M15+75, IF(AND(M15>28, M15<=30), M15+100))))) -> 0 | P15: =if(N15>0,1,)
M16: =D16+F16+H16 -> 0 | N16: =IF(M16=0, M16, IF(AND(M16>0, M16<=20), M16+0, IF(AND(M16>20, M16<=25), M16+50, IF(AND(M16>25, M16<=28), M16+75, IF(AND(M16>28, M16<=30), M16+100))))) -> 0 | P16: =if(N16>0,1,)
M17: =D17+F17+H17 -> 0 | N17: =IF(M17=0, M17, IF(AND(M17>0, M17<=20), M17+0, IF(AND(M17>20, M17<=25), M17+50, IF(AND(M17>25, M17<=28), M17+75, IF(AND(M17>28, M17<=30), M17+100))))) -> 0 | P17: =if(N17>0,1,)
M18: =D18+F18+H18 -> 0 | N18: =IF(M18=0, M18, IF(AND(M18>0, M18<=20), M18+0, IF(AND(M18>20, M18<=25), M18+50, IF(AND(M18>25, M18<=28), M18+75, IF(AND(M18>28, M18<=30), M18+100))))) -> 0 | P18: =if(N18>0,1,)
... M23: =D23+F23+H23 -> 0 | N23: =IF(M23=0, M23, IF(AND(M23>0, M23<=20), M23+0, IF(AND(M23>20, M23<=25), M23+50, IF(AND(M23>25, M23<=28), M23+75, IF(AND(M23>28, M23<=30), M23+100))))) -> 0 | P23: =if(N23>0,1,)
M24: =D24+F24+H24 -> 0 | N24: =IF(M24=0, M24, IF(AND(M24>0, M24<=20), M24+0, IF(AND(M24>20, M24<=25), M24+50, IF(AND(M24>25, M24<=28), M24+75, IF(AND(M24>28, M24<=30), M24+100))))) -> 0
M27: =D27+F27+H27 -> 0 | N27: =IF(M27=0, M27, IF(AND(M27>0, M27<=20), M27+0, IF(AND(M27>20, M27<=25), M27+50, IF(AND(M27>25, M27<=28), M27+75, IF(AND(M27>28, M27<=30), M27+100))))) -> 0 | P27: =if(N27>0,1,)
M28: =D28+F28+H28 -> 0 | N28: =IF(M28=0, M28, IF(AND(M28>0, M28<=20), M28+0, IF(AND(M28>20, M28<=25), M28+50, IF(AND(M28>25, M28<=28), M28+75, IF(AND(M28>28, M28<=30), M28+100))))) -> 0 | P28: =if(N28>0,1,)
D30: =sum(D6:D28) -> 8 | F30: =sum(F6:F28) -> 10 | H30: =sum(H6:H28) -> 10 | M30: =sum(M6:M28) -> 28 | N30: =N6 + (COUNTIF(N7:N28, ">0") * 100) -> 103

Sheet Jobs
B2: Click: For Notes
A5: Client | B5: Date | C5: Comment | E5: Professional | G5: Communication | I5: Energy | N5: Total | O5: Score
E6: 10 | G6: 10 | I6: 10 | N6: =E6+G6+I6 -> 30 | O6: =IF(N6=0, 0, IF(AND(N6>0, N6<=20), N6, IF(AND(N6>20, N6<=25), N6+50, IF(AND(N6>25, N6<=28), N6+75, IF(AND(N6>28, N6<=30), N6+100))))) -> 130 | P6: =if(Q6=0,Q6)
N7: =E7+G7+I7 -> 0 | O7: =IF(N7=0, 0, IF(AND(N7>0, N7<=20), N7, IF(AND(N7>20, N7<=25), N7+50, IF(AND(N7>25, N7<=28), N7+75, IF(AND(N7>28, N7<=30), N7+100))))) -> 0
N8: =E8+G8+I8 -> 0 | O8: =IF(N8=0, 0, IF(AND(N8>0, N8<=20), N8, IF(AND(N8>20, N8<=25), N8+50, IF(AND(N8>25, N8<=28), N8+75, IF(AND(N8>28, N8<=30), N8+100))))) -> 0
N9: =E9+G9+I9 -> 0 | O9: =IF(N9=0, 0, IF(AND(N9>0, N9<=20), N9, IF(AND(N9>20, N9<=25), N9+50, IF(AND(N9>25, N9<=28), N9+75, IF(AND(N9>28, N9<=30), N9+100))))) -> 0
N10: =E10+G10+I10 -> 0 | O10: =IF(N10=0, 0, IF(AND(N10>0, N10<=20), N10, IF(AND(N10>20, N10<=25), N10+50, IF(AND(N10>25, N10<=28), N10+75, IF(AND(N10>28, N10<=30), N10+100))))) -> 0
N11: =E11+G11+I11 -> 0 | O11: =IF(N11=0, 0, IF(AND(N11>0, N11<=20), N11, IF(AND(N11>20, N11<=25), N11+50, IF(AND(N11>25, N11<=28), N11+75, IF(AND(N11>28, N11<=30), N11+100))))) -> 0
N12: =E12+G12+I12 -> 0 | O12: =IF(N12=0, 0, IF(AND(N12>0, N12<=20), N12, IF(AND(N12>20, N12<=25), N12+50, IF(AND(N12>25, N12<=28), N12+75, IF(AND(N12>28, N12<=30), N12+100))))) -> 0
N13: =E13+G13+I13 -> 0 | O13: =IF(N13=0, 0, IF(AND(N13>0, N13<=20), N13, IF(AND(N13>20, N13<=25), N13+50, IF(AND(N13>25, N13<=28), N13+75, IF(AND(N13>28, N13<=30), N13+100))))) -> 0
N14: =E14+G14+I14 -> 0 | O14: =IF(N14=0, 0, IF(AND(N14>0, N14<=20), N14, IF(AND(N14>20, N14<=25), N14+50, IF(AND(N14>25, N14<=28), N14+75, IF(AND(N14>28, N14<=30), N14+100))))) -> 0
N15: =E15+G15+I15 -> 0 | O15: =IF(N15=0, 0, IF(AND(N15>0, N15<=20), N15, IF(AND(N15>20, N15<=25), N15+50, IF(AND(N15>25, N15<=28), N15+75, IF(AND(N15>28, N15<=30), N15+100))))) -> 0
N16: =E16+G16+I16 -> 0 | O16: =IF(N16=0, 0, IF(AND(N16>0, N16<=20), N16, IF(AND(N16>20, N16<=25), N16+50, IF(AND(N16>25, N16<=28), N16+75, IF(AND(N16>28, N16<=30), N16+100))))) -> 0
N17: =E17+G17+I17 -> 0 | O17: =IF(N17=0, 0, IF(AND(N17>0, N17<=20), N17, IF(AND(N17>20, N17<=25), N17+50, IF(AND(N17>25, N17<=28), N17+75, IF(AND(N17>28, N17<=30), N17+100))))) -> 0
N18: =E18+G18+I18 -> 0 | O18: =IF(N18=0, 0, IF(AND(N18>0, N18<=20), N18, IF(AND(N18>20, N18<=25), N18+50, IF(AND(N18>25, N18<=28), N18+75, IF(AND(N18>28, N18<=30), N18+100))))) -> 0
... N20: =E20+G20+I20 -> 0 | O20: =IF(N20=0, 0, IF(AND(N20>0, N20<=20), N20, IF(AND(N20>20, N20<=25), N20+50, IF(AND(N20>25, N20<=28), N20+75, IF(AND(N20>28, N20<=30), N20+100))))) -> 0
N21: 0 | O21: =IF(N21=0, 0, IF(AND(N21>0, N21<=20), N21, IF(AND(N21>20, N21<=25), N21+50, IF(AND(N21>25, N21<=28), N21+75, IF(AND(N21>28, N21<=30), N21+100))))) -> 0
N22: =E22+G22+I22 -> 0 | O22: =IF(N22=0, 0, IF(AND(N22>0, N22<=20), N22, IF(AND(N22>20, N22<=25), N22+50, IF(AND(N22>25, N22<=28), N22+75, IF(AND(N22>28, N22<=30), N22+100))))) -> 0
N23: =E23+G23+I23 -> 0 | O23: =IF(N23=0, 0, IF(AND(N23>0, N23<=20), N23, IF(AND(N23>20, N23<=25), N23+50, IF(AND(N23>25, N23<=28), N23+75, IF(AND(N23>28, N23<=30), N23+100))))) -> 0
E25: =sum(E6:E24) -> 10 | G25: =sum(G6:G24) -> 10 | I25: =sum(I6:I24) -> 10 | N25: =sum(N6:N24) -> 30 | O25: =O6 + (COUNTIF(O7:O24, ">0") * 100) -> 130

Sheet Mood-Board
B2: Click: For Notes
A5: Date | B5: Day | C5: Sleep | D5: Mood - Early | E5: Exercise | F5: Commute | G5: Conversation Skill | H5: Self-Control | I5: Attention-to-Details | J5: Diet | K5: Mood - Late | L5: Connection | Q5: Total | R5: Score
C6: 10 | D6: 10 | E6: 10 | F6: 10 | G6: 10 | H6: 10 | I6: 10 | J6: 10 | K6: 10 | L6: 10 | Q6: =sum(C6:L6) -> 100 | R6: =IF(Q6=0, Q6, IF(AND(Q6>0, Q6<=50), Q6-10, IF(AND(Q6>50, Q6<=75), Q6+10, IF(AND(Q6>75, Q6<=78), Q6+75, IF(AND(Q6>78, Q6<=100), Q6+100))))) -> 200
Q7: =L7/10 -> 0 | R7: =IF(Q7=0, Q7, IF(AND(Q7>0, Q7<=50), Q7-10, IF(AND(Q7>50, Q7<=75), Q7+10, IF(AND(Q7>75, Q7<=78), Q7+75, IF(AND(Q7>78, Q7<=100), Q7+100))))) -> 0
Q8: =L8/10 -> 0 | R8: =IF(Q8=0, Q8, IF(AND(Q8>0, Q8<=50), Q8-10, IF(AND(Q8>50, Q8<=75), Q8+10, IF(AND(Q8>75, Q8<=78), Q8+75, IF(AND(Q8>78, Q8<=100), Q8+100))))) -> 0
Q9: =L9/10 -> 0 | R9: =IF(Q9=0, Q9, IF(AND(Q9>0, Q9<=50), Q9-10, IF(AND(Q9>50, Q9<=75), Q9+10, IF(AND(Q9>75, Q9<=78), Q9+75, IF(AND(Q9>78, Q9<=100), Q9+100))))) -> 0
Q10: =L10/10 -> 0 | R10: =IF(Q10=0, Q10, IF(AND(Q10>0, Q10<=50), Q10-10, IF(AND(Q10>50, Q10<=75), Q10+10, IF(AND(Q10>75, Q10<=78), Q10+75, IF(AND(Q10>78, Q10<=100), Q10+100))))) -> 0
Q11: =L11/10 -> 0 | R11: =IF(Q11=0, Q11, IF(AND(Q11>0, Q11<=50), Q11-10, IF(AND(Q11>50, Q11<=75), Q11+10, IF(AND(Q11>75, Q11<=78), Q11+75, IF(AND(Q11>78, Q11<=100), Q11+100))))) -> 0
Q12: =L12/10 -> 0 | R12: =IF(Q12=0, Q12, IF(AND(Q12>0, Q12<=50), Q12-10, IF(AND(Q12>50, Q12<=75), Q12+10, IF(AND(Q12>75, Q12<=78), Q12+75, IF(AND(Q12>78, Q12<=100), Q12+100))))) -> 0
Q13: =L13/10 -> 0 | R13: =IF(Q13=0, Q13, IF(AND(Q13>0, Q13<=50), Q13-10, IF(AND(Q13>50, Q13<=75), Q13+10, IF(AND(Q13>75, Q13<=78), Q13+75, IF(AND(Q13>78, Q13<=100), Q13+100))))) -> 0
Q14: =L14/10 -> 0 | R14: =IF(Q14=0, Q14, IF(AND(Q14>0, Q14<=50), Q14-10, IF(AND(Q14>50, Q14<=75), Q14+10, IF(AND(Q14>75, Q14<=78), Q14+75, IF(AND(Q14>78, Q14<=100), Q14+100))))) -> 0
Q15: =L15/10 -> 0 | R15: =IF(Q15=0, Q15, IF(AND(Q15>0, Q15<=50), Q15-10, IF(AND(Q15>50, Q15<=75), Q15+10, IF(AND(Q15>75, Q15<=78), Q15+75, IF(AND(Q15>78, Q15<=100), Q15+100))))) -> 0
Q16: =L16/10 -> 0 | R16: =IF(Q16=0, Q16, IF(AND(Q16>0, Q16<=50), Q16-10, IF(AND(Q16>50, Q16<=75), Q16+10, IF(AND(Q16>75, Q16<=78), Q16+75, IF(AND(Q16>78, Q16<=100), Q16+100))))) -> 0
Q17: =L17/10 -> 0 | R17: =IF(Q17=0, Q17, IF(AND(Q17>0, Q17<=50), Q17-10, IF(AND(Q17>50, Q17<=75), Q17+10, IF(AND(Q17>75, Q17<=78), Q17+75, IF(AND(Q17>78, Q17<=100), Q17+100))))) -> 0
Q18: =L18/10 -> 0 | R18: =IF(Q18=0, Q18, IF(AND(Q18>0, Q18<=50), Q18-10, IF(AND(Q18>50, Q18<=75), Q18+10, IF(AND(Q18>75, Q18<=78), Q18+75, IF(AND(Q18>78, Q18<=100), Q18+100))))) -> 0
... Q25: =L25/10 -> 0 | R25: =IF(Q25=0, Q25, IF(AND(Q25>0, Q25<=50), Q25-10, IF(AND(Q25>50, Q25<=75), Q25+10, IF(AND(Q25>75, Q25<=78), Q25+75, IF(AND(Q25>78, Q25<=100), Q25+100))))) -> 0
C27: =sum(C6:C25) -> 10 | D27: =sum(D6:D25) -> 10 | E27: =sum(E6:E25) -> 10 | F27: =sum(F6:F25) -> 10 | G27: =sum(G6:G25) -> 10 | H27: =sum(H6:H25) -> 10 | I27: =sum(I6:I25) -> 10 | J27: =sum(J6:J25) -> 10 | ... L27: =sum(L6:L25) -> 10 | Q27: =sum(Q6:Q25) -> 100 | R27: =R6 + (COUNTIF(R7:R25, ">0") * 200) -> 200

Sheet Q & A
B2: Click: For Note(s)
A7: Count | B7: Questions | D7: Answers
B8: Casting Call
A10: 1 | B10: Where are you from? | D10: I'm South Sudan; I was luck enough to be recued at 6 years old when my uncle and mother was able to take me to Kenya. Where I grew up and went to school. I saw Saint Lauren Paris show and this was the first time I really thought seriously about modelling.
A11: 2 | B11: How old are you? | D11: I started at age 20 but I am 24 years old.
A12: 3 | B12: Have you worked with us before? | D12: Do Research On Brand Before each Casting.
A13: 4 | B13: Do you know anything about the designer? | D13: Do Research On Brand Before each Casting.
A14: 5 | B14: Do you know anything about our brand? | D14: Do Research On Brand Before each Casting.
A15: 6 | B15: Will you be available when we request you? | D15: I think I available but it's best if you reach out to my booker.
A16: 7 | B16: Have you ever been fired from a job? | D16: Never been fired from a job because I am always professional, I communicate well and I make to bring my best energy to each casting andd job.
A17: 8 | B17: How long have you been modelling? | D17: Honestly, I've modelling all my life but professionally, I've been modelling for two years.
A18: 9 | B18: Why did you decide to become a Model? | D18: When I very, one of my earliest memories was my mother having me wear Tutu dress. My sister and I were always modelling. But when growing in Kenya people in the street and school would always stop ask if I am modelling. So, I decided to go to the modelling agency...and, here I am.
A19: 10 | B19: How did you get to America? | D19: I got singed to an agency in America and they made it possible for me to get herre.
A20: 11 | B20: Was it difficult being a refegee? | D20: Yes, it was challenging but my attitude is that the future is always brighter depending on how to make it.
A21: 12 | B21: Why should we hire you? | D21: I am always professional and i communicate well; posing, walking or dealing with people. I also make sure to bring the right energy to each job.
B27: Agency
A28: 1 | B28: Did you receive your tax document
B39: Casting Director
A40: 1 | B40: How do you feel about being nude? | D40: I am comfortable as long as it is professional and elegant.
B53: Other Models
A54: 1 | B54: Where do you live in the city
A55: 2 | B55: Which agency are you with?
A56: 3 | B56: Are you dating?
A57: 4 | B57: Do you like the city?
A58: 5 | B58: Do you go out?
B67: Designers
A68: 1 | B68: Do you like this dress/outfit on you?
A69: 2 | B69: How does this material feel on your body/skin?
A70: 3 | B70: Can you bring something interesting to the outfit?
B78: Hair & Make-up
A79: 1 | B79: Where are you from?
A80: 2 | B80: What kind of products do you use for (skin, hair, make-up, etc.)
